BEGIN:VCALENDAR
VERSION:2.0
PRODID:-//Neighbourhood Node - ECPv6.15.12.1//NONSGML v1.0//EN
CALSCALE:GREGORIAN
METHOD:PUBLISH
X-WR-CALNAME:Neighbourhood Node
X-ORIGINAL-URL:https://neighbourhoodnode.com.au
X-WR-CALDESC:Events for Neighbourhood Node
REFRESH-INTERVAL;VALUE=DURATION:PT1H
X-Robots-Tag:noindex
X-PUBLISHED-TTL:PT1H
BEGIN:VTIMEZONE
TZID:Australia/Adelaide
BEGIN:STANDARD
TZOFFSETFROM:+1030
TZOFFSETTO:+0930
TZNAME:ACST
DTSTART:20240406T163000
END:STANDARD
BEGIN:DAYLIGHT
TZOFFSETFROM:+0930
TZOFFSETTO:+1030
TZNAME:ACDT
DTSTART:20241005T163000
END:DAYLIGHT
BEGIN:STANDARD
TZOFFSETFROM:+1030
TZOFFSETTO:+0930
TZNAME:ACST
DTSTART:20250405T163000
END:STANDARD
BEGIN:DAYLIGHT
TZOFFSETFROM:+0930
TZOFFSETTO:+1030
TZNAME:ACDT
DTSTART:20251004T163000
END:DAYLIGHT
BEGIN:STANDARD
TZOFFSETFROM:+1030
TZOFFSETTO:+0930
TZNAME:ACST
DTSTART:20260404T163000
END:STANDARD
BEGIN:DAYLIGHT
TZOFFSETFROM:+0930
TZOFFSETTO:+1030
TZNAME:ACDT
DTSTART:20261003T163000
END:DAYLIGHT
END:VTIMEZONE
BEGIN:VEVENT
DTSTART;TZID=Australia/Adelaide:20250430T100000
DTEND;TZID=Australia/Adelaide:20250430T113000
DTSTAMP:20260422T033154
CREATED:20241210T035022Z
LAST-MODIFIED:20241210T043821Z
UID:10014245-1746007200-1746012600@neighbourhoodnode.com.au
SUMMARY:Woolcraft Club
DESCRIPTION:Each Wednesday morning at 10am\, a group of neighbours meet at The Pear for a cuppa\, a chat\, some crochet\, knitting\, and other wool craft techniques. Beginners right through to experienced people are welcome. There’s always someone on hand to show you the ropes (or wool!) \nFor more information contact hello@neighbourhoodnode.com.au \nWe would like to acknowledge that this activity takes place on the Traditional land of the Kaurna People. We pay our deepest respects to Elders past\, present and emerging. We recognise that sovereignty of this land was never ceded and we stand in solidarity with all Aboriginal and Torres Strait Islander peoples. This always was\, and always will be Aboriginal land.
URL:https://neighbourhoodnode.com.au/event/woolcraft-club-2/2025-04-30/
LOCATION:The Pear\, 49 Sussex St\, Alberton\, SA\, 5014\, Australia
CATEGORIES:Neighbourhood,Regular Activities,The Pear
ATTACH;FMTTYPE=image/jpeg:https://neighbourhoodnode.com.au/wp-content/uploads/2022/09/IMG_0488.jpeg
ORGANIZER;CN="Neighbourhood":MAILTO:hello@neighbourhoodnode.com.au
END:VEVENT
BEGIN:VEVENT
DTSTART;TZID=Australia/Adelaide:20250430T100000
DTEND;TZID=Australia/Adelaide:20250430T130000
DTSTAMP:20260422T033154
CREATED:20221130T060426Z
LAST-MODIFIED:20221130T232655Z
UID:10002246-1746007200-1746018000@neighbourhoodnode.com.au
SUMMARY:Bingo (Queenstown Citizens Club)
DESCRIPTION:If you are a Bingo fan\, then Wednesday mornings at QT are the place to be for you! The Queenstown Citizens Club host a weekly Bingo session\, suitable for those who love to play a game or two as well as those who are serious about their bingo. With monthly birthday celebrations\, lunches\, and special events throughout the year – the Queenstown Citizens Club know how to bring people together. Entry is free\, the cost will depend on how many games of Bingo you decide to join on the day. \nThe Queenstown Citizens Club are a membership organisation\, but it is not required to be a member to be able to join Wednesday morning Bingo sessions. However\, Club members enjoy additional benefits including invites to the annual Christmas lunch and a yearly excursion. \nFor more information\, please contact Kay or Kathy at the Queenstown Citizens Club. \n\nThis club meets on the traditional lands of the Kaurna people. We pay our deepest respects to Elders past\, present and emerging. We acknowledge that sovereignty of this land was never ceded and that this always was\, always will be Aboriginal land.
URL:https://neighbourhoodnode.com.au/event/weekly-bingo/2025-04-30/
LOCATION:QT\, 67 Spring St\, Queenstown\, SA\, 5014\, Australia
CATEGORIES:QT,Regular Activities
ATTACH;FMTTYPE=image/jpeg:https://neighbourhoodnode.com.au/wp-content/uploads/2022/11/IMG_5204.jpg
ORGANIZER;CN="Queenstown Citizens Club":MAILTO:akfrench1955@hotmail.com
END:VEVENT
BEGIN:VEVENT
DTSTART;TZID=Australia/Adelaide:20250430T130000
DTEND;TZID=Australia/Adelaide:20250430T160000
DTSTAMP:20260422T033154
CREATED:20250326T032519Z
LAST-MODIFIED:20250326T033412Z
UID:10016583-1746018000-1746028800@neighbourhoodnode.com.au
SUMMARY:Justice of The Peace
DESCRIPTION:Neighbour and Justice of The Peace\, Ian Law\, holds a drop-in JP Service at QT on Wednesday afternoons for all your document sighting\, witnessing and signing needs. Make sure you bring all the documents you need a JP to look at and Ian will help you out. \nIf you need a JP but can’t make it on Wednesdays\, Ian is generally happy to make a time to meet with people at The Pear on other days if he is available. Ian is also at The Pear on Friday mornings for JP service from 8:45am. \nShould you need a JP on another day\, contact hello@neighbourhoodnode.com.au and we will put you in touch with Ian to arrange a time. \n 
URL:https://neighbourhoodnode.com.au/event/justice-of-the-peace-2-2/2025-04-30/
LOCATION:QT\, 67 Spring St\, Queenstown\, SA\, 5014\, Australia
CATEGORIES:Neighbourhood
ATTACH;FMTTYPE=image/jpeg:https://neighbourhoodnode.com.au/wp-content/uploads/2022/09/022-The-Pear-Cafe-2_Web.jpg
ORGANIZER;CN="Neighbourhood":MAILTO:hello@neighbourhoodnode.com.au
END:VEVENT
BEGIN:VEVENT
DTSTART;TZID=Australia/Adelaide:20250430T190000
DTEND;TZID=Australia/Adelaide:20250430T210000
DTSTAMP:20260422T033154
CREATED:20250331T062808Z
LAST-MODIFIED:20250331T062809Z
UID:10016934-1746039600-1746046800@neighbourhoodnode.com.au
SUMMARY:Spark Session: Music for Change
DESCRIPTION:Are you passionate about music and its power to bring people together and spark change? \n  \nWe’re calling on our community to join us in shaping Music for Change—a project that uses music to do something good in the world. \n  \nWhether you’re a musician\, a music lover\, or just someone with ideas to share\, we want your input! Music has always been a powerful force for connection and protest\, for challenging the status quo and inspiring action. Let’s tap into that energy to create something meaningful for our community and beyond. \n  \nThis Spark Session is your chance to: \n🎤 Share your ideas for what Music for Change could look like.\n🎼 Help brainstorm ways to connect music with community and purpose.\n🤝 Be part of something that brings people together and makes a difference. \n  \nYou don’t need to be a musician to join. If you’ve got thoughts\, skills\, or even just a desire to contribute\, you’re welcome here. Let’s dream big and start something amazing together. \n  \n📅 When: Wednesday April 30th\, 7 – 9pm\n📍 Where: QT Neighbourhood Node\, 67 Spring St\, Queenstown \nReady to help us kick this off? RSVP here: hello@minorworksprogram.com.au \n  \nTogether\, let’s make change through music. 🎵
URL:https://neighbourhoodnode.com.au/event/spark-session-music-for-change/
LOCATION:QT\, 67 Spring St\, Queenstown\, SA\, 5014\, Australia
CATEGORIES:Neighbourhood,QT,Spark Sessions,The Minor Works Program
ORGANIZER;CN="Neighbourhood":MAILTO:hello@neighbourhoodnode.com.au
END:VEVENT
END:VCALENDAR