BEGIN:VCALENDAR
VERSION:2.0
PRODID:-//Neighbourhood Node - ECPv6.15.12.1//NONSGML v1.0//EN
CALSCALE:GREGORIAN
METHOD:PUBLISH
X-ORIGINAL-URL:https://neighbourhoodnode.com.au
X-WR-CALDESC:Events for Neighbourhood Node
REFRESH-INTERVAL;VALUE=DURATION:PT1H
X-Robots-Tag:noindex
X-PUBLISHED-TTL:PT1H
BEGIN:VTIMEZONE
TZID:Australia/Adelaide
BEGIN:STANDARD
TZOFFSETFROM:+1030
TZOFFSETTO:+0930
TZNAME:ACST
DTSTART:20210403T163000
END:STANDARD
BEGIN:DAYLIGHT
TZOFFSETFROM:+0930
TZOFFSETTO:+1030
TZNAME:ACDT
DTSTART:20211002T163000
END:DAYLIGHT
BEGIN:STANDARD
TZOFFSETFROM:+1030
TZOFFSETTO:+0930
TZNAME:ACST
DTSTART:20220402T163000
END:STANDARD
BEGIN:DAYLIGHT
TZOFFSETFROM:+0930
TZOFFSETTO:+1030
TZNAME:ACDT
DTSTART:20221001T163000
END:DAYLIGHT
BEGIN:STANDARD
TZOFFSETFROM:+1030
TZOFFSETTO:+0930
TZNAME:ACST
DTSTART:20230401T163000
END:STANDARD
BEGIN:DAYLIGHT
TZOFFSETFROM:+0930
TZOFFSETTO:+1030
TZNAME:ACDT
DTSTART:20230930T163000
END:DAYLIGHT
END:VTIMEZONE
BEGIN:VEVENT
DTSTART;TZID=Australia/Adelaide:20221129T103000
DTEND;TZID=Australia/Adelaide:20221129T120000
DTSTAMP:20260420T160850
CREATED:20221021T021502Z
LAST-MODIFIED:20221116T015755Z
UID:10002118-1669717800-1669723200@neighbourhoodnode.com.au
SUMMARY:Advance Care Directive Workshops (session 2/3)
DESCRIPTION:Completing an Advance Care Directive (ACD) can be challenging. An Advance Care Directive empowers you to make clear legal arrangements for your future health care\, end-of-life care\, preferred living arrangements and other personal matters. \nECH are facilitating free workshops in November 2022\, providing the opportunity for you to learn about Advance Care Directives and discuss your concerns in a supportive environment. There are three sessions\, all of which need to be attended in order to formulate your own Advance Care Directive. \nWorkshop 1: Tuesday November 15th\nIntroduction to the principles of Advance Care Directives\, and the importance of writing down and communicating your wishes about your future health and personal care in advance. We will also explore issues associated with appointing a substitute decision-maker and discuss the sort of information you might want to communicate about your values and wishes. \nWorkshop 2: Tuesday November 29th \nIn this session we will further examine how to express your values and wishes on the Advance Care Directive form. Bring discussion points\, thoughts\, and any questions you may have. \nWorkshop 3: TBA\nThe final session is an opportunity for you to clarify and express any concerns. A Justice of the Peace will be available to witness completed documents and there will also be a photocopy machine to make copies of the completed form. \nBookings are required. For more information or to book email ask@ech.asn.au or call 1300 275 324. \n\nThis activity takes place on the traditional lands of the Kaurna people. We pay our deepest respects to Elders past\, present and emerging. We acknowledge that sovereignty of this land was never ceded and that this always was\, always will be Aboriginal land.
URL:https://neighbourhoodnode.com.au/event/advance-care-directive-workshops-session-2-3/
LOCATION:QT\, 67 Spring St\, Queenstown\, SA\, 5014\, Australia
CATEGORIES:ECH Activities,Neighbourhood,QT
ATTACH;FMTTYPE=image/jpeg:https://neighbourhoodnode.com.au/wp-content/uploads/2022/10/ACD-Image.jpg
ORGANIZER;CN="ECH":MAILTO:communityengagement@ech.asn.au
END:VEVENT
BEGIN:VEVENT
DTSTART;TZID=Australia/Adelaide:20221115T103000
DTEND;TZID=Australia/Adelaide:20221115T120000
DTSTAMP:20260420T160850
CREATED:20221021T013018Z
LAST-MODIFIED:20221109T042037Z
UID:10002117-1668508200-1668513600@neighbourhoodnode.com.au
SUMMARY:Advance Care Directive Workshops (session 1/3)
DESCRIPTION:Completing an Advance Care Directive (ACD) can be challenging. An Advance Care Directive empowers you to make clear legal arrangements for your future health care\, end-of-life care\, preferred living arrangements and other personal matters. \nECH are facilitating free workshops in November 2022\, providing the opportunity for you to learn about Advance Care Directives and discuss your concerns in a supportive environment. There are three sessions\, all of which need to be attended in order to formulate your own Advance Care Directive. \nWorkshop 1: Tuesday November 15th\nIntroduction to the principles of Advance Care Directives\, and the importance of writing down and communicating your wishes about your future health and personal care in advance. We will also explore issues associated with appointing a substitute decision-maker and discuss the sort of information you might want to communicate about your values and wishes. \nWorkshop 2: TBA \nIn this session we will further examine how to express your values and wishes on the Advance Care Directive form. Bring discussion points\, thoughts\, and any questions you may have. \nWorkshop 3: TBA\nThe final session is an opportunity for you to clarify and express any concerns. A Justice of the Peace will be available to witness completed documents and there will also be a photocopy machine to make copies of the completed form. \nBookings are required. For more information or to book email ask@ech.asn.au or call 1300 275 324. \n\nThis activity takes place on the traditional lands of the Kaurna people. We pay our deepest respects to Elders past\, present and emerging. We acknowledge that sovereignty of this land was never ceded and that this always was\, always will be Aboriginal land.
URL:https://neighbourhoodnode.com.au/event/advance-care-directive-workshops-session-1-3/
LOCATION:QT\, 67 Spring St\, Queenstown\, SA\, 5014\, Australia
CATEGORIES:ECH Activities,Neighbourhood,QT
ATTACH;FMTTYPE=image/jpeg:https://neighbourhoodnode.com.au/wp-content/uploads/2022/10/ACD-Image.jpg
ORGANIZER;CN="ECH":MAILTO:communityengagement@ech.asn.au
END:VEVENT
END:VCALENDAR