BEGIN:VCALENDAR
VERSION:2.0
PRODID:-//Neighbourhood Node - ECPv6.15.12.1//NONSGML v1.0//EN
CALSCALE:GREGORIAN
METHOD:PUBLISH
X-WR-CALNAME:Neighbourhood Node
X-ORIGINAL-URL:https://neighbourhoodnode.com.au
X-WR-CALDESC:Events for Neighbourhood Node
REFRESH-INTERVAL;VALUE=DURATION:PT1H
X-Robots-Tag:noindex
X-PUBLISHED-TTL:PT1H
BEGIN:VTIMEZONE
TZID:Australia/Adelaide
BEGIN:STANDARD
TZOFFSETFROM:+1030
TZOFFSETTO:+0930
TZNAME:ACST
DTSTART:20220402T163000
END:STANDARD
BEGIN:DAYLIGHT
TZOFFSETFROM:+0930
TZOFFSETTO:+1030
TZNAME:ACDT
DTSTART:20221001T163000
END:DAYLIGHT
BEGIN:STANDARD
TZOFFSETFROM:+1030
TZOFFSETTO:+0930
TZNAME:ACST
DTSTART:20230401T163000
END:STANDARD
BEGIN:DAYLIGHT
TZOFFSETFROM:+0930
TZOFFSETTO:+1030
TZNAME:ACDT
DTSTART:20230930T163000
END:DAYLIGHT
BEGIN:STANDARD
TZOFFSETFROM:+1030
TZOFFSETTO:+0930
TZNAME:ACST
DTSTART:20240406T163000
END:STANDARD
BEGIN:DAYLIGHT
TZOFFSETFROM:+0930
TZOFFSETTO:+1030
TZNAME:ACDT
DTSTART:20241005T163000
END:DAYLIGHT
BEGIN:STANDARD
TZOFFSETFROM:+1030
TZOFFSETTO:+0930
TZNAME:ACST
DTSTART:20250405T163000
END:STANDARD
BEGIN:DAYLIGHT
TZOFFSETFROM:+0930
TZOFFSETTO:+1030
TZNAME:ACDT
DTSTART:20251004T163000
END:DAYLIGHT
END:VTIMEZONE
BEGIN:VEVENT
DTSTART;TZID=Australia/Adelaide:20240918T183000
DTEND;TZID=Australia/Adelaide:20240918T210000
DTSTAMP:20260420T042810
CREATED:20240902T034049Z
LAST-MODIFIED:20240902T034049Z
UID:10012717-1726684200-1726693200@neighbourhoodnode.com.au
SUMMARY:Come & Try Felting
DESCRIPTION:Join Louise from Tangletwine Fibre for a ‘Come & Try’ Felting session where you can create your own felted purse or wallet.  \nWednesday September 18\n$20 per person\n6:30pm – 9pm\nat QT
URL:https://neighbourhoodnode.com.au/event/come-try-felting/
LOCATION:QT\, 67 Spring St\, Queenstown\, SA\, 5014\, Australia
CATEGORIES:Neighbourhood,Regular Activities,The Pear
ATTACH;FMTTYPE=image/png:https://neighbourhoodnode.com.au/wp-content/uploads/2024/09/September-Felting-Workshops.png
END:VEVENT
BEGIN:VEVENT
DTSTART;TZID=Australia/Adelaide:20240911T183000
DTEND;TZID=Australia/Adelaide:20240911T210000
DTSTAMP:20260420T042810
CREATED:20240902T033612Z
LAST-MODIFIED:20240902T033612Z
UID:10012716-1726079400-1726088400@neighbourhoodnode.com.au
SUMMARY:Felting Workshop - Chose your project!
DESCRIPTION:Join Louise from Tangletwine Fibre for a Felting Workshop of your choice! Create a hat\, scarf\, fairy house\, chook\, purse… you choose! \nWednesday September 4 & Wednesday September 11 \nChoose your Felting Project!\n$40 per person\n6.30pm – 9.00 pm
URL:https://neighbourhoodnode.com.au/event/felting-workshop-chose-your-project/2024-09-11/
LOCATION:QT\, 67 Spring St\, Queenstown\, SA\, 5014\, Australia
CATEGORIES:Neighbourhood,QT,Regular Activities
ATTACH;FMTTYPE=image/png:https://neighbourhoodnode.com.au/wp-content/uploads/2024/09/September-Felting-Workshops.png
END:VEVENT
BEGIN:VEVENT
DTSTART;TZID=Australia/Adelaide:20240904T183000
DTEND;TZID=Australia/Adelaide:20240904T210000
DTSTAMP:20260420T042810
CREATED:20240902T033612Z
LAST-MODIFIED:20240902T033612Z
UID:10012715-1725474600-1725483600@neighbourhoodnode.com.au
SUMMARY:Felting Workshop - Chose your project!
DESCRIPTION:Join Louise from Tangletwine Fibre for a Felting Workshop of your choice! Create a hat\, scarf\, fairy house\, chook\, purse… you choose! \nWednesday September 4 & Wednesday September 11 \nChoose your Felting Project!\n$40 per person\n6.30pm – 9.00 pm
URL:https://neighbourhoodnode.com.au/event/felting-workshop-chose-your-project/2024-09-04/
LOCATION:QT\, 67 Spring St\, Queenstown\, SA\, 5014\, Australia
CATEGORIES:Neighbourhood,QT,Regular Activities
ATTACH;FMTTYPE=image/png:https://neighbourhoodnode.com.au/wp-content/uploads/2024/09/September-Felting-Workshops.png
END:VEVENT
BEGIN:VEVENT
DTSTART;TZID=Australia/Adelaide:20240903T093000
DTEND;TZID=Australia/Adelaide:20240903T110000
DTSTAMP:20260420T042810
CREATED:20240902T032704Z
LAST-MODIFIED:20240902T032704Z
UID:10012714-1725355800-1725361200@neighbourhoodnode.com.au
SUMMARY:Felting Workshop
DESCRIPTION:Join Louise from Tangletwine Fibre for a free Felting workshop where you can make your very own coaster to take home and enjoy!  \nTuesday 3 September from 9:30am – 11:30am at QT.
URL:https://neighbourhoodnode.com.au/event/felting-workshop/
LOCATION:QT\, 67 Spring St\, Queenstown\, SA\, 5014\, Australia
CATEGORIES:Neighbourhood,QT,Regular Activities
ATTACH;FMTTYPE=image/png:https://neighbourhoodnode.com.au/wp-content/uploads/2024/09/September-Felting-Workshops.png
END:VEVENT
BEGIN:VEVENT
DTSTART;TZID=Australia/Adelaide:20240723T183000
DTEND;TZID=Australia/Adelaide:20240723T203000
DTSTAMP:20260420T042810
CREATED:20240805T011134Z
LAST-MODIFIED:20240805T011136Z
UID:10010983-1721759400-1721766600@neighbourhoodnode.com.au
SUMMARY:Crafters Lane
DESCRIPTION:Join us at Crafters Lane for a delightful gathering of creative minds!\n\nWhether you’re a seasoned artist or just beginning your crafting journey\, our welcoming space invites you to bring your projects and immerse yourself in a community of fellow creators\, supported by neighbours Carmen and Louise.\n\nAnd don’t forget to indulge in a cup of tea or coffee\, available for a simple gold coin donation.\n\nLet’s craft together and inspire each other along the way!\n\nFor further information\, please get in touch:E: hello@neighbourhoodnode.com.auP: 8240 3981\n—————This event takes place on the traditional lands of the Kaurna people. We pay our deepest respects to Elders past\, present and emerging. We acknowledge that sovereignty of this land was never ceded and that this always was\, and always will be Aboriginal land
URL:https://neighbourhoodnode.com.au/event/crafters-lane-2/
LOCATION:QT\, 67 Spring St\, Queenstown\, SA\, 5014\, Australia
CATEGORIES:Neighbourhood,QT,Regular Activities
ATTACH;FMTTYPE=image/png:https://neighbourhoodnode.com.au/wp-content/uploads/2024/06/Crafters-Lane-Instagram-Post-1.png
ORGANIZER;CN="Neighbourhood":MAILTO:hello@neighbourhoodnode.com.au
END:VEVENT
BEGIN:VEVENT
DTSTART;TZID=Australia/Adelaide:20240716T183000
DTEND;TZID=Australia/Adelaide:20240716T203000
DTSTAMP:20260420T042810
CREATED:20240614T021621Z
LAST-MODIFIED:20240614T021621Z
UID:10010982-1721154600-1721161800@neighbourhoodnode.com.au
SUMMARY:Crafters Lane
DESCRIPTION:Join us at Crafters Lane for a delightful gathering of creative minds!\n\nWhether you’re a seasoned artist or just beginning your crafting journey\, our welcoming space invites you to bring your projects and immerse yourself in a community of fellow creators\, supported by neighbours Carmen and Louise.\n\nAnd don’t forget to indulge in a cup of tea or coffee\, available for a simple gold coin donation.\n\nLet’s craft together and inspire each other along the way!\n\nFor further information\, please get in touch:E: hello@neighbourhoodnode.com.auP: 8240 3981\n—————This event takes place on the traditional lands of the Kaurna people. We pay our deepest respects to Elders past\, present and emerging. We acknowledge that sovereignty of this land was never ceded and that this always was\, and always will be Aboriginal land
URL:https://neighbourhoodnode.com.au/event/crafters-lane/2024-07-16/
LOCATION:QT\, 67 Spring St\, Queenstown\, SA\, 5014\, Australia
CATEGORIES:Neighbourhood,QT,Regular Activities
ATTACH;FMTTYPE=image/png:https://neighbourhoodnode.com.au/wp-content/uploads/2024/06/Crafters-Lane-Instagram-Post.png
ORGANIZER;CN="Neighbourhood":MAILTO:hello@neighbourhoodnode.com.au
END:VEVENT
BEGIN:VEVENT
DTSTART;TZID=Australia/Adelaide:20240709T183000
DTEND;TZID=Australia/Adelaide:20240709T203000
DTSTAMP:20260420T042810
CREATED:20240614T021621Z
LAST-MODIFIED:20240614T021621Z
UID:10010981-1720549800-1720557000@neighbourhoodnode.com.au
SUMMARY:Crafters Lane
DESCRIPTION:Join us at Crafters Lane for a delightful gathering of creative minds!\n\nWhether you’re a seasoned artist or just beginning your crafting journey\, our welcoming space invites you to bring your projects and immerse yourself in a community of fellow creators\, supported by neighbours Carmen and Louise.\n\nAnd don’t forget to indulge in a cup of tea or coffee\, available for a simple gold coin donation.\n\nLet’s craft together and inspire each other along the way!\n\nFor further information\, please get in touch:E: hello@neighbourhoodnode.com.auP: 8240 3981\n—————This event takes place on the traditional lands of the Kaurna people. We pay our deepest respects to Elders past\, present and emerging. We acknowledge that sovereignty of this land was never ceded and that this always was\, and always will be Aboriginal land
URL:https://neighbourhoodnode.com.au/event/crafters-lane/2024-07-09/
LOCATION:QT\, 67 Spring St\, Queenstown\, SA\, 5014\, Australia
CATEGORIES:Neighbourhood,QT,Regular Activities
ATTACH;FMTTYPE=image/png:https://neighbourhoodnode.com.au/wp-content/uploads/2024/06/Crafters-Lane-Instagram-Post.png
ORGANIZER;CN="Neighbourhood":MAILTO:hello@neighbourhoodnode.com.au
END:VEVENT
BEGIN:VEVENT
DTSTART;TZID=Australia/Adelaide:20240702T183000
DTEND;TZID=Australia/Adelaide:20240702T203000
DTSTAMP:20260420T042810
CREATED:20240614T021621Z
LAST-MODIFIED:20240614T021621Z
UID:10010980-1719945000-1719952200@neighbourhoodnode.com.au
SUMMARY:Crafters Lane
DESCRIPTION:Join us at Crafters Lane for a delightful gathering of creative minds!\n\nWhether you’re a seasoned artist or just beginning your crafting journey\, our welcoming space invites you to bring your projects and immerse yourself in a community of fellow creators\, supported by neighbours Carmen and Louise.\n\nAnd don’t forget to indulge in a cup of tea or coffee\, available for a simple gold coin donation.\n\nLet’s craft together and inspire each other along the way!\n\nFor further information\, please get in touch:E: hello@neighbourhoodnode.com.auP: 8240 3981\n—————This event takes place on the traditional lands of the Kaurna people. We pay our deepest respects to Elders past\, present and emerging. We acknowledge that sovereignty of this land was never ceded and that this always was\, and always will be Aboriginal land
URL:https://neighbourhoodnode.com.au/event/crafters-lane/2024-07-02/
LOCATION:QT\, 67 Spring St\, Queenstown\, SA\, 5014\, Australia
CATEGORIES:Neighbourhood,QT,Regular Activities
ATTACH;FMTTYPE=image/png:https://neighbourhoodnode.com.au/wp-content/uploads/2024/06/Crafters-Lane-Instagram-Post.png
ORGANIZER;CN="Neighbourhood":MAILTO:hello@neighbourhoodnode.com.au
END:VEVENT
BEGIN:VEVENT
DTSTART;TZID=Australia/Adelaide:20240625T183000
DTEND;TZID=Australia/Adelaide:20240625T203000
DTSTAMP:20260420T042810
CREATED:20240614T021621Z
LAST-MODIFIED:20240614T021621Z
UID:10010979-1719340200-1719347400@neighbourhoodnode.com.au
SUMMARY:Crafters Lane
DESCRIPTION:Join us at Crafters Lane for a delightful gathering of creative minds!\n\nWhether you’re a seasoned artist or just beginning your crafting journey\, our welcoming space invites you to bring your projects and immerse yourself in a community of fellow creators\, supported by neighbours Carmen and Louise.\n\nAnd don’t forget to indulge in a cup of tea or coffee\, available for a simple gold coin donation.\n\nLet’s craft together and inspire each other along the way!\n\nFor further information\, please get in touch:E: hello@neighbourhoodnode.com.auP: 8240 3981\n—————This event takes place on the traditional lands of the Kaurna people. We pay our deepest respects to Elders past\, present and emerging. We acknowledge that sovereignty of this land was never ceded and that this always was\, and always will be Aboriginal land
URL:https://neighbourhoodnode.com.au/event/crafters-lane/2024-06-25/
LOCATION:QT\, 67 Spring St\, Queenstown\, SA\, 5014\, Australia
CATEGORIES:Neighbourhood,QT,Regular Activities
ATTACH;FMTTYPE=image/png:https://neighbourhoodnode.com.au/wp-content/uploads/2024/06/Crafters-Lane-Instagram-Post.png
ORGANIZER;CN="Neighbourhood":MAILTO:hello@neighbourhoodnode.com.au
END:VEVENT
BEGIN:VEVENT
DTSTART;TZID=Australia/Adelaide:20240618T183000
DTEND;TZID=Australia/Adelaide:20240618T203000
DTSTAMP:20260420T042810
CREATED:20240614T021621Z
LAST-MODIFIED:20240614T021621Z
UID:10010978-1718735400-1718742600@neighbourhoodnode.com.au
SUMMARY:Crafters Lane
DESCRIPTION:Join us at Crafters Lane for a delightful gathering of creative minds!\n\nWhether you’re a seasoned artist or just beginning your crafting journey\, our welcoming space invites you to bring your projects and immerse yourself in a community of fellow creators\, supported by neighbours Carmen and Louise.\n\nAnd don’t forget to indulge in a cup of tea or coffee\, available for a simple gold coin donation.\n\nLet’s craft together and inspire each other along the way!\n\nFor further information\, please get in touch:E: hello@neighbourhoodnode.com.auP: 8240 3981\n—————This event takes place on the traditional lands of the Kaurna people. We pay our deepest respects to Elders past\, present and emerging. We acknowledge that sovereignty of this land was never ceded and that this always was\, and always will be Aboriginal land
URL:https://neighbourhoodnode.com.au/event/crafters-lane/2024-06-18/
LOCATION:QT\, 67 Spring St\, Queenstown\, SA\, 5014\, Australia
CATEGORIES:Neighbourhood,QT,Regular Activities
ATTACH;FMTTYPE=image/png:https://neighbourhoodnode.com.au/wp-content/uploads/2024/06/Crafters-Lane-Instagram-Post.png
ORGANIZER;CN="Neighbourhood":MAILTO:hello@neighbourhoodnode.com.au
END:VEVENT
BEGIN:VEVENT
DTSTART;TZID=Australia/Adelaide:20231019T103000
DTEND;TZID=Australia/Adelaide:20231019T113000
DTSTAMP:20260420T042810
CREATED:20230831T045811Z
LAST-MODIFIED:20230831T050223Z
UID:10007724-1697711400-1697715000@neighbourhoodnode.com.au
SUMMARY:Open Art Space
DESCRIPTION:Bring your art or craft project\, grab a cuppa and create in company! \nNeighbour Trudi will be there to support you with any art & craft related questions\, or help you take on a new crafty challenge.\nSome art materials will be available for you to give a try for free\, such as watercolour paints\, jewellery making materials\, and more. \nThursdays from 10.30am at The Pear. Registrations welcome but not essential. \nFor more information reach out to hello@neighbourhoodnode.com.au or pop in to The Pear. \n\nThis activity is made possible with the generous support from the Australian Government Department of Social Services and our partner ECH Inc. \nWe acknowledge that we live\, work\, create and connect on the Traditional lands of the Kaurna people and pay our respects to Elders past\, present and emerging. In particular\, we acknowledge that sovereignty of this land was never ceded and that this and all of what is now called Australia always was and always will be\, Aboriginal land.
URL:https://neighbourhoodnode.com.au/event/open-art-space/2023-10-19/
LOCATION:The Pear\, 49 Sussex St\, Alberton\, SA\, 5014\, Australia
CATEGORIES:Neighbourhood,Regular Activities,The Pear
ATTACH;FMTTYPE=image/png:https://neighbourhoodnode.com.au/wp-content/uploads/2023/08/Open-Art-Space-Instagram-Post-Square.png
END:VEVENT
BEGIN:VEVENT
DTSTART;TZID=Australia/Adelaide:20231012T103000
DTEND;TZID=Australia/Adelaide:20231012T113000
DTSTAMP:20260420T042810
CREATED:20230831T045811Z
LAST-MODIFIED:20230831T050223Z
UID:10007723-1697106600-1697110200@neighbourhoodnode.com.au
SUMMARY:Open Art Space
DESCRIPTION:Bring your art or craft project\, grab a cuppa and create in company! \nNeighbour Trudi will be there to support you with any art & craft related questions\, or help you take on a new crafty challenge.\nSome art materials will be available for you to give a try for free\, such as watercolour paints\, jewellery making materials\, and more. \nThursdays from 10.30am at The Pear. Registrations welcome but not essential. \nFor more information reach out to hello@neighbourhoodnode.com.au or pop in to The Pear. \n\nThis activity is made possible with the generous support from the Australian Government Department of Social Services and our partner ECH Inc. \nWe acknowledge that we live\, work\, create and connect on the Traditional lands of the Kaurna people and pay our respects to Elders past\, present and emerging. In particular\, we acknowledge that sovereignty of this land was never ceded and that this and all of what is now called Australia always was and always will be\, Aboriginal land.
URL:https://neighbourhoodnode.com.au/event/open-art-space/2023-10-12/
LOCATION:The Pear\, 49 Sussex St\, Alberton\, SA\, 5014\, Australia
CATEGORIES:Neighbourhood,Regular Activities,The Pear
ATTACH;FMTTYPE=image/png:https://neighbourhoodnode.com.au/wp-content/uploads/2023/08/Open-Art-Space-Instagram-Post-Square.png
END:VEVENT
BEGIN:VEVENT
DTSTART;TZID=Australia/Adelaide:20231005T103000
DTEND;TZID=Australia/Adelaide:20231005T113000
DTSTAMP:20260420T042810
CREATED:20230831T045811Z
LAST-MODIFIED:20230831T050223Z
UID:10007722-1696501800-1696505400@neighbourhoodnode.com.au
SUMMARY:Open Art Space
DESCRIPTION:Bring your art or craft project\, grab a cuppa and create in company! \nNeighbour Trudi will be there to support you with any art & craft related questions\, or help you take on a new crafty challenge.\nSome art materials will be available for you to give a try for free\, such as watercolour paints\, jewellery making materials\, and more. \nThursdays from 10.30am at The Pear. Registrations welcome but not essential. \nFor more information reach out to hello@neighbourhoodnode.com.au or pop in to The Pear. \n\nThis activity is made possible with the generous support from the Australian Government Department of Social Services and our partner ECH Inc. \nWe acknowledge that we live\, work\, create and connect on the Traditional lands of the Kaurna people and pay our respects to Elders past\, present and emerging. In particular\, we acknowledge that sovereignty of this land was never ceded and that this and all of what is now called Australia always was and always will be\, Aboriginal land.
URL:https://neighbourhoodnode.com.au/event/open-art-space/2023-10-05/
LOCATION:The Pear\, 49 Sussex St\, Alberton\, SA\, 5014\, Australia
CATEGORIES:Neighbourhood,Regular Activities,The Pear
ATTACH;FMTTYPE=image/png:https://neighbourhoodnode.com.au/wp-content/uploads/2023/08/Open-Art-Space-Instagram-Post-Square.png
END:VEVENT
BEGIN:VEVENT
DTSTART;TZID=Australia/Adelaide:20230928T103000
DTEND;TZID=Australia/Adelaide:20230928T113000
DTSTAMP:20260420T042810
CREATED:20230831T045811Z
LAST-MODIFIED:20230831T050223Z
UID:10007721-1695897000-1695900600@neighbourhoodnode.com.au
SUMMARY:Open Art Space
DESCRIPTION:Bring your art or craft project\, grab a cuppa and create in company! \nNeighbour Trudi will be there to support you with any art & craft related questions\, or help you take on a new crafty challenge.\nSome art materials will be available for you to give a try for free\, such as watercolour paints\, jewellery making materials\, and more. \nThursdays from 10.30am at The Pear. Registrations welcome but not essential. \nFor more information reach out to hello@neighbourhoodnode.com.au or pop in to The Pear. \n\nThis activity is made possible with the generous support from the Australian Government Department of Social Services and our partner ECH Inc. \nWe acknowledge that we live\, work\, create and connect on the Traditional lands of the Kaurna people and pay our respects to Elders past\, present and emerging. In particular\, we acknowledge that sovereignty of this land was never ceded and that this and all of what is now called Australia always was and always will be\, Aboriginal land.
URL:https://neighbourhoodnode.com.au/event/open-art-space/2023-09-28/
LOCATION:The Pear\, 49 Sussex St\, Alberton\, SA\, 5014\, Australia
CATEGORIES:Neighbourhood,Regular Activities,The Pear
ATTACH;FMTTYPE=image/png:https://neighbourhoodnode.com.au/wp-content/uploads/2023/08/Open-Art-Space-Instagram-Post-Square.png
END:VEVENT
BEGIN:VEVENT
DTSTART;TZID=Australia/Adelaide:20230921T103000
DTEND;TZID=Australia/Adelaide:20230921T113000
DTSTAMP:20260420T042810
CREATED:20230831T045811Z
LAST-MODIFIED:20230831T050223Z
UID:10007720-1695292200-1695295800@neighbourhoodnode.com.au
SUMMARY:Open Art Space
DESCRIPTION:Bring your art or craft project\, grab a cuppa and create in company! \nNeighbour Trudi will be there to support you with any art & craft related questions\, or help you take on a new crafty challenge.\nSome art materials will be available for you to give a try for free\, such as watercolour paints\, jewellery making materials\, and more. \nThursdays from 10.30am at The Pear. Registrations welcome but not essential. \nFor more information reach out to hello@neighbourhoodnode.com.au or pop in to The Pear. \n\nThis activity is made possible with the generous support from the Australian Government Department of Social Services and our partner ECH Inc. \nWe acknowledge that we live\, work\, create and connect on the Traditional lands of the Kaurna people and pay our respects to Elders past\, present and emerging. In particular\, we acknowledge that sovereignty of this land was never ceded and that this and all of what is now called Australia always was and always will be\, Aboriginal land.
URL:https://neighbourhoodnode.com.au/event/open-art-space/2023-09-21/
LOCATION:The Pear\, 49 Sussex St\, Alberton\, SA\, 5014\, Australia
CATEGORIES:Neighbourhood,Regular Activities,The Pear
ATTACH;FMTTYPE=image/png:https://neighbourhoodnode.com.au/wp-content/uploads/2023/08/Open-Art-Space-Instagram-Post-Square.png
END:VEVENT
BEGIN:VEVENT
DTSTART;TZID=Australia/Adelaide:20230914T103000
DTEND;TZID=Australia/Adelaide:20230914T113000
DTSTAMP:20260420T042810
CREATED:20230831T045811Z
LAST-MODIFIED:20230831T050223Z
UID:10007719-1694687400-1694691000@neighbourhoodnode.com.au
SUMMARY:Open Art Space
DESCRIPTION:Bring your art or craft project\, grab a cuppa and create in company! \nNeighbour Trudi will be there to support you with any art & craft related questions\, or help you take on a new crafty challenge.\nSome art materials will be available for you to give a try for free\, such as watercolour paints\, jewellery making materials\, and more. \nThursdays from 10.30am at The Pear. Registrations welcome but not essential. \nFor more information reach out to hello@neighbourhoodnode.com.au or pop in to The Pear. \n\nThis activity is made possible with the generous support from the Australian Government Department of Social Services and our partner ECH Inc. \nWe acknowledge that we live\, work\, create and connect on the Traditional lands of the Kaurna people and pay our respects to Elders past\, present and emerging. In particular\, we acknowledge that sovereignty of this land was never ceded and that this and all of what is now called Australia always was and always will be\, Aboriginal land.
URL:https://neighbourhoodnode.com.au/event/open-art-space/2023-09-14/
LOCATION:The Pear\, 49 Sussex St\, Alberton\, SA\, 5014\, Australia
CATEGORIES:Neighbourhood,Regular Activities,The Pear
ATTACH;FMTTYPE=image/png:https://neighbourhoodnode.com.au/wp-content/uploads/2023/08/Open-Art-Space-Instagram-Post-Square.png
END:VEVENT
BEGIN:VEVENT
DTSTART;TZID=Australia/Adelaide:20230801T123000
DTEND;TZID=Australia/Adelaide:20230801T140000
DTSTAMP:20260420T042810
CREATED:20230424T120312Z
LAST-MODIFIED:20230921T024417Z
UID:10006020-1690893000-1690898400@neighbourhoodnode.com.au
SUMMARY:Sustainable Art Series
DESCRIPTION:12:30pm – 2pm | First Tuesday of Every Month | The Pear\n\nJoin the creative and crafty Koruna (from ECH) for a monthly Sustainable Art Series\, which sees you create unique art\, using recycled and sustainable materials only.\n\nCome along and work on the ‘Weaving Together Project’ – which will see you create weaves with recycled fabric which can then be donated to the ‘Reclaim the Void’ Campaign.\n\nRegistrations appreciated by emailing: hello@neighbourhoodnode.com.au
URL:https://neighbourhoodnode.com.au/event/sustainable-art-series/2023-08-01/
LOCATION:The Pear\, 49 Sussex St\, Alberton\, SA\, 5014\, Australia
CATEGORIES:ECH Activities,Neighbourhood,The Pear
ATTACH;FMTTYPE=image/png:https://neighbourhoodnode.com.au/wp-content/uploads/2023/04/Sustainable-Art-Instagram-Post.png
ORGANIZER;CN="ECH":MAILTO:communityengagement@ech.asn.au
END:VEVENT
BEGIN:VEVENT
DTSTART;TZID=Australia/Adelaide:20230704T123000
DTEND;TZID=Australia/Adelaide:20230704T140000
DTSTAMP:20260420T042810
CREATED:20230424T120312Z
LAST-MODIFIED:20230921T024417Z
UID:10006019-1688473800-1688479200@neighbourhoodnode.com.au
SUMMARY:Sustainable Art Series
DESCRIPTION:12:30pm – 2pm | First Tuesday of Every Month | The Pear\n\nJoin the creative and crafty Koruna (from ECH) for a monthly Sustainable Art Series\, which sees you create unique art\, using recycled and sustainable materials only.\n\nCome along and work on the ‘Weaving Together Project’ – which will see you create weaves with recycled fabric which can then be donated to the ‘Reclaim the Void’ Campaign.\n\nRegistrations appreciated by emailing: hello@neighbourhoodnode.com.au
URL:https://neighbourhoodnode.com.au/event/sustainable-art-series/2023-07-04/
LOCATION:The Pear\, 49 Sussex St\, Alberton\, SA\, 5014\, Australia
CATEGORIES:ECH Activities,Neighbourhood,The Pear
ATTACH;FMTTYPE=image/png:https://neighbourhoodnode.com.au/wp-content/uploads/2023/04/Sustainable-Art-Instagram-Post.png
ORGANIZER;CN="ECH":MAILTO:communityengagement@ech.asn.au
END:VEVENT
BEGIN:VEVENT
DTSTART;TZID=Australia/Adelaide:20230620T100000
DTEND;TZID=Australia/Adelaide:20230620T110000
DTSTAMP:20260420T042810
CREATED:20230615T003632Z
LAST-MODIFIED:20230615T003632Z
UID:10007309-1687255200-1687258800@neighbourhoodnode.com.au
SUMMARY:Mindfulness Art
DESCRIPTION:Join neighbour Trudi for a mindfulness art session to support you to relax and look inward. No previous art experience required. \nThis is a free session with all materials supplied. \nGrab yourself a cuppa to enjoy while you doodle! \nFor more information please email us at hello@neighbourhoodnode.com.au \n\nThis seminar is made possible with support from the Australian Government Department of Social Services and our partner ECH Inc. \nThe Pear is located on the traditional lands of the Kaurna people. We pay our deepest respects to Elders past\, present and emerging. We acknowledge that sovereignty of this land was never ceded and that this always was\, always will be Aboriginal land.
URL:https://neighbourhoodnode.com.au/event/mindfulness-art/
LOCATION:The Pear\, 49 Sussex St\, Alberton\, SA\, 5014\, Australia
CATEGORIES:Neighbourhood,The Pear
ATTACH;FMTTYPE=image/png:https://neighbourhoodnode.com.au/wp-content/uploads/2023/06/Mindfulness-Art-Instagram-Post-Square.png
ORGANIZER;CN="Neighbourhood":MAILTO:hello@neighbourhoodnode.com.au
END:VEVENT
BEGIN:VEVENT
DTSTART;TZID=Australia/Adelaide:20230606T123000
DTEND;TZID=Australia/Adelaide:20230606T140000
DTSTAMP:20260420T042810
CREATED:20230424T120312Z
LAST-MODIFIED:20230921T024417Z
UID:10006018-1686054600-1686060000@neighbourhoodnode.com.au
SUMMARY:Sustainable Art Series
DESCRIPTION:12:30pm – 2pm | First Tuesday of Every Month | The Pear\n\nJoin the creative and crafty Koruna (from ECH) for a monthly Sustainable Art Series\, which sees you create unique art\, using recycled and sustainable materials only.\n\nCome along and work on the ‘Weaving Together Project’ – which will see you create weaves with recycled fabric which can then be donated to the ‘Reclaim the Void’ Campaign.\n\nRegistrations appreciated by emailing: hello@neighbourhoodnode.com.au
URL:https://neighbourhoodnode.com.au/event/sustainable-art-series/2023-06-06/
LOCATION:The Pear\, 49 Sussex St\, Alberton\, SA\, 5014\, Australia
CATEGORIES:ECH Activities,Neighbourhood,The Pear
ATTACH;FMTTYPE=image/png:https://neighbourhoodnode.com.au/wp-content/uploads/2023/04/Sustainable-Art-Instagram-Post.png
ORGANIZER;CN="ECH":MAILTO:communityengagement@ech.asn.au
END:VEVENT
BEGIN:VEVENT
DTSTART;TZID=Australia/Adelaide:20230502T123000
DTEND;TZID=Australia/Adelaide:20230502T140000
DTSTAMP:20260420T042810
CREATED:20230424T120312Z
LAST-MODIFIED:20230921T024417Z
UID:10006017-1683030600-1683036000@neighbourhoodnode.com.au
SUMMARY:Sustainable Art Series
DESCRIPTION:12:30pm – 2pm | First Tuesday of Every Month | The Pear\n\nJoin the creative and crafty Koruna (from ECH) for a monthly Sustainable Art Series\, which sees you create unique art\, using recycled and sustainable materials only.\n\nCome along and work on the ‘Weaving Together Project’ – which will see you create weaves with recycled fabric which can then be donated to the ‘Reclaim the Void’ Campaign.\n\nRegistrations appreciated by emailing: hello@neighbourhoodnode.com.au
URL:https://neighbourhoodnode.com.au/event/sustainable-art-series/2023-05-02/
LOCATION:The Pear\, 49 Sussex St\, Alberton\, SA\, 5014\, Australia
CATEGORIES:ECH Activities,Neighbourhood,The Pear
ATTACH;FMTTYPE=image/png:https://neighbourhoodnode.com.au/wp-content/uploads/2023/04/Sustainable-Art-Instagram-Post.png
ORGANIZER;CN="ECH":MAILTO:communityengagement@ech.asn.au
END:VEVENT
END:VCALENDAR