BEGIN:VCALENDAR
VERSION:2.0
PRODID:-//Neighbourhood Node - ECPv6.15.12.1//NONSGML v1.0//EN
CALSCALE:GREGORIAN
METHOD:PUBLISH
X-ORIGINAL-URL:https://neighbourhoodnode.com.au
X-WR-CALDESC:Events for Neighbourhood Node
REFRESH-INTERVAL;VALUE=DURATION:PT1H
X-Robots-Tag:noindex
X-PUBLISHED-TTL:PT1H
BEGIN:VTIMEZONE
TZID:Australia/Adelaide
BEGIN:STANDARD
TZOFFSETFROM:+1030
TZOFFSETTO:+0930
TZNAME:ACST
DTSTART:20250405T163000
END:STANDARD
BEGIN:DAYLIGHT
TZOFFSETFROM:+0930
TZOFFSETTO:+1030
TZNAME:ACDT
DTSTART:20251004T163000
END:DAYLIGHT
BEGIN:STANDARD
TZOFFSETFROM:+1030
TZOFFSETTO:+0930
TZNAME:ACST
DTSTART:20260404T163000
END:STANDARD
BEGIN:DAYLIGHT
TZOFFSETFROM:+0930
TZOFFSETTO:+1030
TZNAME:ACDT
DTSTART:20261003T163000
END:DAYLIGHT
BEGIN:STANDARD
TZOFFSETFROM:+1030
TZOFFSETTO:+0930
TZNAME:ACST
DTSTART:20270403T163000
END:STANDARD
BEGIN:DAYLIGHT
TZOFFSETFROM:+0930
TZOFFSETTO:+1030
TZNAME:ACDT
DTSTART:20271002T163000
END:DAYLIGHT
END:VTIMEZONE
BEGIN:VEVENT
DTSTART;TZID=Australia/Adelaide:20260312T130000
DTEND;TZID=Australia/Adelaide:20260312T150000
DTSTAMP:20260420T060342
CREATED:20250901T050747Z
LAST-MODIFIED:20250901T050910Z
UID:10017626-1773320400-1773327600@neighbourhoodnode.com.au
SUMMARY:Creative at QT
DESCRIPTION:Come and work on different creative projects\, that you either bring yourself or are offered by volunteer Louise from Tangletwine Fibre. \nCreative at QT is an opportunity to try out new crafty skills\, in a safe\, encouraging and welcoming environment. \nEvery fortnight\, 1-3pm at QT. Come along\, no need to register!
URL:https://neighbourhoodnode.com.au/event/creative-at-qt/2026-03-12/
LOCATION:QT\, 67 Spring St\, Queenstown\, SA\, 5014\, Australia
CATEGORIES:Neighbourhood,QT,Regular Activities
END:VEVENT
END:VCALENDAR