BEGIN:VCALENDAR
VERSION:2.0
PRODID:-//Neighbourhood Node - ECPv6.15.12.1//NONSGML v1.0//EN
CALSCALE:GREGORIAN
METHOD:PUBLISH
X-WR-CALNAME:Neighbourhood Node
X-ORIGINAL-URL:https://neighbourhoodnode.com.au
X-WR-CALDESC:Events for Neighbourhood Node
REFRESH-INTERVAL;VALUE=DURATION:PT1H
X-Robots-Tag:noindex
X-PUBLISHED-TTL:PT1H
BEGIN:VTIMEZONE
TZID:Australia/Adelaide
BEGIN:STANDARD
TZOFFSETFROM:+1030
TZOFFSETTO:+0930
TZNAME:ACST
DTSTART:20240406T163000
END:STANDARD
BEGIN:DAYLIGHT
TZOFFSETFROM:+0930
TZOFFSETTO:+1030
TZNAME:ACDT
DTSTART:20241005T163000
END:DAYLIGHT
BEGIN:STANDARD
TZOFFSETFROM:+1030
TZOFFSETTO:+0930
TZNAME:ACST
DTSTART:20250405T163000
END:STANDARD
BEGIN:DAYLIGHT
TZOFFSETFROM:+0930
TZOFFSETTO:+1030
TZNAME:ACDT
DTSTART:20251004T163000
END:DAYLIGHT
BEGIN:STANDARD
TZOFFSETFROM:+1030
TZOFFSETTO:+0930
TZNAME:ACST
DTSTART:20260404T163000
END:STANDARD
BEGIN:DAYLIGHT
TZOFFSETFROM:+0930
TZOFFSETTO:+1030
TZNAME:ACDT
DTSTART:20261003T163000
END:DAYLIGHT
END:VTIMEZONE
BEGIN:VEVENT
DTSTART;TZID=Australia/Adelaide:20251003T130000
DTEND;TZID=Australia/Adelaide:20251003T160000
DTSTAMP:20260420T144758
CREATED:20250901T053925Z
LAST-MODIFIED:20250901T053925Z
UID:10017901-1759496400-1759507200@neighbourhoodnode.com.au
SUMMARY:Euchre at QT
DESCRIPTION:Come and join a casual group and play a thrilling game of Euchre! \nEuchre is a trick-taking card game typically played by four people in two partnerships\, using a short deck of 24-32 cards. Players aim to win a majority of tricks (usually three out of five) in a round after a trump suit is determined\, which features the unique ranking of two “bowers” (the jacks of the trump and same-colored suit). The game involves strategic play\, bidding for the trump suit\, and scoring points for trick victories. \nAnyone is welcome\, no need to register. \nGold coin donation appreciated towards tea and biscuits!
URL:https://neighbourhoodnode.com.au/event/euchre-at-qt/2025-10-03/
LOCATION:QT\, 67 Spring St\, Queenstown\, SA\, 5014\, Australia
CATEGORIES:Neighbourhood,QT,Regular Activities
ORGANIZER;CN="Queenstown Citizens Club":MAILTO:akfrench1955@hotmail.com
END:VEVENT
BEGIN:VEVENT
DTSTART;TZID=Australia/Adelaide:20251010T130000
DTEND;TZID=Australia/Adelaide:20251010T160000
DTSTAMP:20260420T144758
CREATED:20250901T053925Z
LAST-MODIFIED:20250901T053925Z
UID:10017902-1760101200-1760112000@neighbourhoodnode.com.au
SUMMARY:Euchre at QT
DESCRIPTION:Come and join a casual group and play a thrilling game of Euchre! \nEuchre is a trick-taking card game typically played by four people in two partnerships\, using a short deck of 24-32 cards. Players aim to win a majority of tricks (usually three out of five) in a round after a trump suit is determined\, which features the unique ranking of two “bowers” (the jacks of the trump and same-colored suit). The game involves strategic play\, bidding for the trump suit\, and scoring points for trick victories. \nAnyone is welcome\, no need to register. \nGold coin donation appreciated towards tea and biscuits!
URL:https://neighbourhoodnode.com.au/event/euchre-at-qt/2025-10-10/
LOCATION:QT\, 67 Spring St\, Queenstown\, SA\, 5014\, Australia
CATEGORIES:Neighbourhood,QT,Regular Activities
ORGANIZER;CN="Queenstown Citizens Club":MAILTO:akfrench1955@hotmail.com
END:VEVENT
BEGIN:VEVENT
DTSTART;TZID=Australia/Adelaide:20251017T130000
DTEND;TZID=Australia/Adelaide:20251017T160000
DTSTAMP:20260420T144758
CREATED:20250901T053925Z
LAST-MODIFIED:20250901T053925Z
UID:10017903-1760706000-1760716800@neighbourhoodnode.com.au
SUMMARY:Euchre at QT
DESCRIPTION:Come and join a casual group and play a thrilling game of Euchre! \nEuchre is a trick-taking card game typically played by four people in two partnerships\, using a short deck of 24-32 cards. Players aim to win a majority of tricks (usually three out of five) in a round after a trump suit is determined\, which features the unique ranking of two “bowers” (the jacks of the trump and same-colored suit). The game involves strategic play\, bidding for the trump suit\, and scoring points for trick victories. \nAnyone is welcome\, no need to register. \nGold coin donation appreciated towards tea and biscuits!
URL:https://neighbourhoodnode.com.au/event/euchre-at-qt/2025-10-17/
LOCATION:QT\, 67 Spring St\, Queenstown\, SA\, 5014\, Australia
CATEGORIES:Neighbourhood,QT,Regular Activities
ORGANIZER;CN="Queenstown Citizens Club":MAILTO:akfrench1955@hotmail.com
END:VEVENT
BEGIN:VEVENT
DTSTART;TZID=Australia/Adelaide:20251024T130000
DTEND;TZID=Australia/Adelaide:20251024T160000
DTSTAMP:20260420T144758
CREATED:20250901T053925Z
LAST-MODIFIED:20250901T053925Z
UID:10017904-1761310800-1761321600@neighbourhoodnode.com.au
SUMMARY:Euchre at QT
DESCRIPTION:Come and join a casual group and play a thrilling game of Euchre! \nEuchre is a trick-taking card game typically played by four people in two partnerships\, using a short deck of 24-32 cards. Players aim to win a majority of tricks (usually three out of five) in a round after a trump suit is determined\, which features the unique ranking of two “bowers” (the jacks of the trump and same-colored suit). The game involves strategic play\, bidding for the trump suit\, and scoring points for trick victories. \nAnyone is welcome\, no need to register. \nGold coin donation appreciated towards tea and biscuits!
URL:https://neighbourhoodnode.com.au/event/euchre-at-qt/2025-10-24/
LOCATION:QT\, 67 Spring St\, Queenstown\, SA\, 5014\, Australia
CATEGORIES:Neighbourhood,QT,Regular Activities
ORGANIZER;CN="Queenstown Citizens Club":MAILTO:akfrench1955@hotmail.com
END:VEVENT
BEGIN:VEVENT
DTSTART;TZID=Australia/Adelaide:20251031T130000
DTEND;TZID=Australia/Adelaide:20251031T160000
DTSTAMP:20260420T144758
CREATED:20250901T053925Z
LAST-MODIFIED:20250901T053925Z
UID:10017905-1761915600-1761926400@neighbourhoodnode.com.au
SUMMARY:Euchre at QT
DESCRIPTION:Come and join a casual group and play a thrilling game of Euchre! \nEuchre is a trick-taking card game typically played by four people in two partnerships\, using a short deck of 24-32 cards. Players aim to win a majority of tricks (usually three out of five) in a round after a trump suit is determined\, which features the unique ranking of two “bowers” (the jacks of the trump and same-colored suit). The game involves strategic play\, bidding for the trump suit\, and scoring points for trick victories. \nAnyone is welcome\, no need to register. \nGold coin donation appreciated towards tea and biscuits!
URL:https://neighbourhoodnode.com.au/event/euchre-at-qt/2025-10-31/
LOCATION:QT\, 67 Spring St\, Queenstown\, SA\, 5014\, Australia
CATEGORIES:Neighbourhood,QT,Regular Activities
ORGANIZER;CN="Queenstown Citizens Club":MAILTO:akfrench1955@hotmail.com
END:VEVENT
END:VCALENDAR