BEGIN:VCALENDAR
VERSION:2.0
PRODID:-//Neighbourhood Node - ECPv6.15.12.1//NONSGML v1.0//EN
CALSCALE:GREGORIAN
METHOD:PUBLISH
X-ORIGINAL-URL:https://neighbourhoodnode.com.au
X-WR-CALDESC:Events for Neighbourhood Node
REFRESH-INTERVAL;VALUE=DURATION:PT1H
X-Robots-Tag:noindex
X-PUBLISHED-TTL:PT1H
BEGIN:VTIMEZONE
TZID:Australia/Adelaide
BEGIN:STANDARD
TZOFFSETFROM:+1030
TZOFFSETTO:+0930
TZNAME:ACST
DTSTART:20240406T163000
END:STANDARD
BEGIN:DAYLIGHT
TZOFFSETFROM:+0930
TZOFFSETTO:+1030
TZNAME:ACDT
DTSTART:20241005T163000
END:DAYLIGHT
BEGIN:STANDARD
TZOFFSETFROM:+1030
TZOFFSETTO:+0930
TZNAME:ACST
DTSTART:20250405T163000
END:STANDARD
BEGIN:DAYLIGHT
TZOFFSETFROM:+0930
TZOFFSETTO:+1030
TZNAME:ACDT
DTSTART:20251004T163000
END:DAYLIGHT
BEGIN:STANDARD
TZOFFSETFROM:+1030
TZOFFSETTO:+0930
TZNAME:ACST
DTSTART:20260404T163000
END:STANDARD
BEGIN:DAYLIGHT
TZOFFSETFROM:+0930
TZOFFSETTO:+1030
TZNAME:ACDT
DTSTART:20261003T163000
END:DAYLIGHT
END:VTIMEZONE
BEGIN:VEVENT
DTSTART;TZID=Australia/Adelaide:20251219T130000
DTEND;TZID=Australia/Adelaide:20251219T160000
DTSTAMP:20260420T112329
CREATED:20250901T053925Z
LAST-MODIFIED:20250901T053925Z
UID:10017912-1766149200-1766160000@neighbourhoodnode.com.au
SUMMARY:Euchre at QT
DESCRIPTION:Come and join a casual group and play a thrilling game of Euchre! \nEuchre is a trick-taking card game typically played by four people in two partnerships\, using a short deck of 24-32 cards. Players aim to win a majority of tricks (usually three out of five) in a round after a trump suit is determined\, which features the unique ranking of two “bowers” (the jacks of the trump and same-colored suit). The game involves strategic play\, bidding for the trump suit\, and scoring points for trick victories. \nAnyone is welcome\, no need to register. \nGold coin donation appreciated towards tea and biscuits!
URL:https://neighbourhoodnode.com.au/event/euchre-at-qt/2025-12-19/
LOCATION:QT\, 67 Spring St\, Queenstown\, SA\, 5014\, Australia
CATEGORIES:Neighbourhood,QT,Regular Activities
ORGANIZER;CN="Queenstown Citizens Club":MAILTO:akfrench1955@hotmail.com
END:VEVENT
END:VCALENDAR