BEGIN:VCALENDAR
VERSION:2.0
PRODID:-//Neighbourhood Node - ECPv6.15.12.1//NONSGML v1.0//EN
CALSCALE:GREGORIAN
METHOD:PUBLISH
X-ORIGINAL-URL:https://neighbourhoodnode.com.au
X-WR-CALDESC:Events for Neighbourhood Node
REFRESH-INTERVAL;VALUE=DURATION:PT1H
X-Robots-Tag:noindex
X-PUBLISHED-TTL:PT1H
BEGIN:VTIMEZONE
TZID:Australia/Adelaide
BEGIN:STANDARD
TZOFFSETFROM:+1030
TZOFFSETTO:+0930
TZNAME:ACST
DTSTART:20230401T163000
END:STANDARD
BEGIN:DAYLIGHT
TZOFFSETFROM:+0930
TZOFFSETTO:+1030
TZNAME:ACDT
DTSTART:20230930T163000
END:DAYLIGHT
BEGIN:STANDARD
TZOFFSETFROM:+1030
TZOFFSETTO:+0930
TZNAME:ACST
DTSTART:20240406T163000
END:STANDARD
BEGIN:DAYLIGHT
TZOFFSETFROM:+0930
TZOFFSETTO:+1030
TZNAME:ACDT
DTSTART:20241005T163000
END:DAYLIGHT
BEGIN:STANDARD
TZOFFSETFROM:+1030
TZOFFSETTO:+0930
TZNAME:ACST
DTSTART:20250405T163000
END:STANDARD
BEGIN:DAYLIGHT
TZOFFSETFROM:+0930
TZOFFSETTO:+1030
TZNAME:ACDT
DTSTART:20251004T163000
END:DAYLIGHT
END:VTIMEZONE
BEGIN:VEVENT
DTSTART;TZID=Australia/Adelaide:20240605T080000
DTEND;TZID=Australia/Adelaide:20240605T170000
DTSTAMP:20260420T002842
CREATED:20240527T064114Z
LAST-MODIFIED:20240527T113245Z
UID:10010949-1717574400-1717606800@neighbourhoodnode.com.au
SUMMARY:Felt Lanterns Workshop ($)
DESCRIPTION:Join Louise from Tangletwine Fibre for another fabulous felting workshop at QT! This time\, Louise will show us how to create lanterns that you can hang or display with lights in them\, just in time for celebrating the winter solstice. No previous experience necessary\, everyone is welcome. \nCost: $40. This includes materials to create 2 lanterns to take home.\nPayment on the night in cash or by card. \nRegistrations are essential. \nEmail: hello@neighbourhoodnode.com.au\nPhone: 8240 3981 \nFelting Lanterns Workshop\nWednesday June 5th\n6-9pm\nQT Hub\, 67 Spring St\, Queenstown
URL:https://neighbourhoodnode.com.au/event/felt-lanterns-workshop/
LOCATION:QT\, 67 Spring St\, Queenstown\, SA\, 5014\, Australia
CATEGORIES:Neighbourhood,QT
ATTACH;FMTTYPE=image/png:https://neighbourhoodnode.com.au/wp-content/uploads/2024/05/Copy-of-Nuno-Felt-workshop-Instagram-Post.png
ORGANIZER;CN="Neighbourhood":MAILTO:hello@neighbourhoodnode.com.au
END:VEVENT
END:VCALENDAR