BEGIN:VCALENDAR
VERSION:2.0
PRODID:-//Neighbourhood Node - ECPv6.15.12.1//NONSGML v1.0//EN
CALSCALE:GREGORIAN
METHOD:PUBLISH
X-WR-CALNAME:Neighbourhood Node
X-ORIGINAL-URL:https://neighbourhoodnode.com.au
X-WR-CALDESC:Events for Neighbourhood Node
REFRESH-INTERVAL;VALUE=DURATION:PT1H
X-Robots-Tag:noindex
X-PUBLISHED-TTL:PT1H
BEGIN:VTIMEZONE
TZID:Australia/Adelaide
BEGIN:STANDARD
TZOFFSETFROM:+1030
TZOFFSETTO:+0930
TZNAME:ACST
DTSTART:20240406T163000
END:STANDARD
BEGIN:DAYLIGHT
TZOFFSETFROM:+0930
TZOFFSETTO:+1030
TZNAME:ACDT
DTSTART:20241005T163000
END:DAYLIGHT
BEGIN:STANDARD
TZOFFSETFROM:+1030
TZOFFSETTO:+0930
TZNAME:ACST
DTSTART:20250405T163000
END:STANDARD
BEGIN:DAYLIGHT
TZOFFSETFROM:+0930
TZOFFSETTO:+1030
TZNAME:ACDT
DTSTART:20251004T163000
END:DAYLIGHT
BEGIN:STANDARD
TZOFFSETFROM:+1030
TZOFFSETTO:+0930
TZNAME:ACST
DTSTART:20260404T163000
END:STANDARD
BEGIN:DAYLIGHT
TZOFFSETFROM:+0930
TZOFFSETTO:+1030
TZNAME:ACDT
DTSTART:20261003T163000
END:DAYLIGHT
END:VTIMEZONE
BEGIN:VEVENT
DTSTART;TZID=Australia/Adelaide:20250424T190000
DTEND;TZID=Australia/Adelaide:20250424T210000
DTSTAMP:20260420T202128
CREATED:20250331T062524Z
LAST-MODIFIED:20250417T060521Z
UID:10016933-1745521200-1745528400@neighbourhoodnode.com.au
SUMMARY:Spark Session: Meaningful Movies
DESCRIPTION:Passionate about films that inspire change? Join us to shape Meaningful Movies—screening/watching/sharing movies that open minds and hearts. Whether you love movies or want to help make a one-off screening happen\, we’d love your input! \n📅 Thursday\, April 24th. 7-9pm\n📍 QT Neighbourhood Node\, 67 Spring St\, Queenstown \nRSVP here: hello@minorworksprogram.com.au 🎥
URL:https://neighbourhoodnode.com.au/event/spark-session-meaningful-movies/
LOCATION:QT\, 67 Spring St\, Queenstown\, SA\, 5014\, Australia
CATEGORIES:Neighbourhood,QT,Spark Sessions,The Minor Works Program
ORGANIZER;CN="Neighbourhood":MAILTO:hello@neighbourhoodnode.com.au
END:VEVENT
END:VCALENDAR