BEGIN:VCALENDAR
VERSION:2.0
PRODID:-//Neighbourhood Node - ECPv6.15.12.1//NONSGML v1.0//EN
CALSCALE:GREGORIAN
METHOD:PUBLISH
X-ORIGINAL-URL:https://neighbourhoodnode.com.au
X-WR-CALDESC:Events for Neighbourhood Node
REFRESH-INTERVAL;VALUE=DURATION:PT1H
X-Robots-Tag:noindex
X-PUBLISHED-TTL:PT1H
BEGIN:VTIMEZONE
TZID:Australia/Adelaide
BEGIN:STANDARD
TZOFFSETFROM:+1030
TZOFFSETTO:+0930
TZNAME:ACST
DTSTART:20220402T163000
END:STANDARD
BEGIN:DAYLIGHT
TZOFFSETFROM:+0930
TZOFFSETTO:+1030
TZNAME:ACDT
DTSTART:20221001T163000
END:DAYLIGHT
BEGIN:STANDARD
TZOFFSETFROM:+1030
TZOFFSETTO:+0930
TZNAME:ACST
DTSTART:20230401T163000
END:STANDARD
BEGIN:DAYLIGHT
TZOFFSETFROM:+0930
TZOFFSETTO:+1030
TZNAME:ACDT
DTSTART:20230930T163000
END:DAYLIGHT
BEGIN:STANDARD
TZOFFSETFROM:+1030
TZOFFSETTO:+0930
TZNAME:ACST
DTSTART:20240406T163000
END:STANDARD
BEGIN:DAYLIGHT
TZOFFSETFROM:+0930
TZOFFSETTO:+1030
TZNAME:ACDT
DTSTART:20241005T163000
END:DAYLIGHT
END:VTIMEZONE
BEGIN:VEVENT
DTSTART;TZID=Australia/Adelaide:20231021T140000
DTEND;TZID=Australia/Adelaide:20231021T170000
DTSTAMP:20260420T064452
CREATED:20230830T063152Z
LAST-MODIFIED:20230831T052537Z
UID:10007718-1697896800-1697907600@neighbourhoodnode.com.au
SUMMARY:QT Spring Fair - Save the Date!
DESCRIPTION:What better way to celebrate our neighbourhood and the weather warming up than with a Spring Fair! Join us for an afternoon of fun\, with: \n\nHandmade & 2nd Hand Market\nFood & Drinks\nMusic\nFree Kids & Garden Activities\nand plenty of opportunity to socialise with new and old neighbours.\n\nCome and have a sticky beak at QT – the new neighbourhood hub where we bring together community to work\, plan\, learn\, grow and play together.\nFor more information about QT and how you can make use of this community space\, head over to: https://neighbourhoodnode.com.au/qt-hub/ \nWant to have a free stall at the Spring Fair?\nIf you live locally and would like to have a stall at the market\, you can register your interest by sending an email to hello@neighbourhoodnode.com.au\nPlease include in your email: \n\nYour name & phone number\nWhat suburb you live in\nWhat products you will be selling (only handmade or second-hand items will be for sale at this market)\n\nThe deadline for stall registrations of interest is Friday October 6\, 2023 \n\nThis event is made possible with the generous support of the Australian Government Department of Social Services and our partner ECH Inc. \nWe acknowledge that we meet and connect on the Traditional lands of the Kaurna people. We pay our respects to Elders past\, present and emerging.\nIn particular\, we acknowledge that sovereignty of this land was never ceded and that this always was and always will be\, Aboriginal land.
URL:https://neighbourhoodnode.com.au/event/qt-spring-fair/
LOCATION:QT\, 67 Spring St\, Queenstown\, SA\, 5014\, Australia
CATEGORIES:Neighbourhood,QT
ATTACH;FMTTYPE=image/png:https://neighbourhoodnode.com.au/wp-content/uploads/2023/08/QT-Spring-Fair-2023-banner.png
ORGANIZER;CN="Neighbourhood":MAILTO:hello@neighbourhoodnode.com.au
END:VEVENT
END:VCALENDAR